BEGIN:VCALENDAR
VERSION:2.0
PRODID:spatie/icalendar-generator
DESCRIPTION:Events from Sarasota Classified/Teachers Association
X-WR-CALDESC:Events from Sarasota Classified/Teachers Association
REFRESH-INTERVAL;VALUE=DURATION:PT1440M
X-PUBLISHED-TTL:PT1440M
BEGIN:VTIMEZONE
TZID:Etc/GMT+0
BEGIN:STANDARD
DTSTART:20250715T100000Z
TZOFFSETFROM:+0000
TZOFFSETTO:+0000
END:STANDARD
END:VTIMEZONE
BEGIN:VTIMEZONE
TZID:UTC
BEGIN:STANDARD
DTSTART:20250725T123452Z
TZOFFSETFROM:+0000
TZOFFSETTO:+0000
END:STANDARD
END:VTIMEZONE
BEGIN:VEVENT
UID:14-8
DTSTAMP:20260421T123452Z
SUMMARY:Embracing Our Differences Exhibit Tours
LOCATION:Sarasota Bayfront 5 Bayfront Dr.  Sarasota FL 34236
ORGANIZER;CN=Christine Hawes:MAILTO:sctaconnects@gmail.com
RRULE:FREQ=WEEKLY;UNTIL=20260418T000000Z
DTSTART;TZID=Etc/GMT+0:20260411T100000
DTEND;TZID=Etc/GMT+0:20260411T110000
X-ALT-DESC;FMTTYPE=TEXT/HTML:Join a tour of the Embracing Our Differences a
 rt exhibit every Saturday morning through April 19. You can also visit the
  park on your own daily between 7 a.m. and 11 p.m.
CATEGORIES:District Event
URL;VALUE=URI:https://sc-ta.org/mc-events/embracing-our-differences-exhibit
 -tours/?mc_id=14
METHOD:PUBLISH
END:VEVENT
END:VCALENDAR